BEGIN:VCALENDAR
VERSION:2.0
PRODID:-//PEROmed - ECPv6.15.20//NONSGML v1.0//EN
CALSCALE:GREGORIAN
METHOD:PUBLISH
X-WR-CALNAME:PEROmed
X-ORIGINAL-URL:https://www.peromed.at
X-WR-CALDESC:Veranstaltungen für PEROmed
REFRESH-INTERVAL;VALUE=DURATION:PT1H
X-Robots-Tag:noindex
X-PUBLISHED-TTL:PT1H
BEGIN:VTIMEZONE
TZID:Europe/Berlin
BEGIN:DAYLIGHT
TZOFFSETFROM:+0100
TZOFFSETTO:+0200
TZNAME:CEST
DTSTART:20250330T010000
END:DAYLIGHT
BEGIN:STANDARD
TZOFFSETFROM:+0200
TZOFFSETTO:+0100
TZNAME:CET
DTSTART:20251026T010000
END:STANDARD
BEGIN:DAYLIGHT
TZOFFSETFROM:+0100
TZOFFSETTO:+0200
TZNAME:CEST
DTSTART:20260329T010000
END:DAYLIGHT
BEGIN:STANDARD
TZOFFSETFROM:+0200
TZOFFSETTO:+0100
TZNAME:CET
DTSTART:20261025T010000
END:STANDARD
BEGIN:DAYLIGHT
TZOFFSETFROM:+0100
TZOFFSETTO:+0200
TZNAME:CEST
DTSTART:20270328T010000
END:DAYLIGHT
BEGIN:STANDARD
TZOFFSETFROM:+0200
TZOFFSETTO:+0100
TZNAME:CET
DTSTART:20271031T010000
END:STANDARD
END:VTIMEZONE
BEGIN:VEVENT
DTSTART;VALUE=DATE:20260326
DTEND;VALUE=DATE:20260328
DTSTAMP:20260420T012428
CREATED:20251117T150533Z
LAST-MODIFIED:20260413T070429Z
UID:10000332-1774483200-1774655999@www.peromed.at
SUMMARY:Summit of Regeneration - Zürs
DESCRIPTION:Summit of Regeneration\nShockwaves\, Magnetic Fields\, Light & PRP\nErleben Sie eine praxisnahe zwei tägige Fortbildung rund um das Thema Regeneration in der niedergelassenen Praxis\, gemeinsam mit ReferentInnen aus der Praxis\, den neuesten wissenschaftliche Erkenntnissen sowie intensiven „Hands-on“-Einheiten. Nutzen Sie die Gelegenheit\, um  Ihre Fachkenntnisse zu erweitern und profitieren Sie vom persönlichen Erfahrungsaustausch! \n📅 Datum: 26. – 27. März 2026 \n📍 Ort: Zürserhof\, Zürs am Arlberg \nTeilnahmegebühr: \n\n2 Tage:  €300.-  inkl. USt.\n1 Tag:    €180.- inkl. USt.\n\n  \nAnmeldung zum Workshop via Email an: office@impulsa-medica.com \noder direkt Online mit dem Anmeldeformular! \n  \nVeranstalter/ärztliche Leitung:\n\nImpulsa Medica / Dr. Maximilian MurtingerWebsite: www.impulsa-medica.com\n\nInhalte der Fortbildung:\n\nMechanotransduktion & biologisches Antwortverhalten\nEndokrine und geschlechtsspezifische Regeneration\nKombinationstherapien (ESWT × EMTT × LLLT × PRP)\nHands-on Training in Orthopädie\, Sportmedizin und Ästhetik\nGewebsregeneration und funktionelle Ästhetik\nInterdisziplinäre Integration von Physik\, Hormonbiologie undKommunikation\nDigitale Medizin\, Social Media & KI – Kommunikation als ärztlicheKompetenz\n\nExpertInnen (vorläufiger Stand):\n\nDr. Maximilian Murtinger\nProf. Dr. Karsten Knobloch\nDr. Clemens Wissiak\n\nHier gelangen Sie zur Online Anmeldung mit dem Anmeldeformular! \n \nÜbernachtung / Hotel\nSie können direkt im Hotel Zürserhof zu vergünstigten Konditionen Zimmer buchen. Geben Sie bekannt\, dass Sie sich zu dem Workshop angemeldet haben.Website: www.zuerserhof.at | Telefonnummer: +43 5583 2513 0 | Email: hotel@zuerserhof.at  \nAlternative Übernachtungsmöglichkeiten (KEIN Kontingent reserviert): \nHotel Edelweiss **** (Zürs) | Telefon: +43 5583 2662 | E-Mail: welcome@edelweiss-arlberg.at \nHaus Küng *** (Zürs) | Telefon: +43 5583 2556 | E-Mail: info@hauskueng.at
URL:https://www.peromed.at/event/summit-of-regeneration-zuers/
LOCATION:Zürserhof\, Zürz 75\, Zürs\, 6763
CATEGORIES:Ärzte Fortbildung,Seminare & Workshops
ATTACH;FMTTYPE=image/jpeg:https://www.peromed.at/graz/wp-content/uploads/2025/11/Summit-of-Regeneration_Zuers_Impulsa-Medica.jpg
END:VEVENT
END:VCALENDAR