BEGIN:VCALENDAR
VERSION:2.0
PRODID:-//PEROmed - ECPv6.15.20//NONSGML v1.0//EN
CALSCALE:GREGORIAN
METHOD:PUBLISH
X-ORIGINAL-URL:https://www.peromed.at
X-WR-CALDESC:Veranstaltungen für PEROmed
REFRESH-INTERVAL;VALUE=DURATION:PT1H
X-Robots-Tag:noindex
X-PUBLISHED-TTL:PT1H
BEGIN:VTIMEZONE
TZID:Europe/Berlin
BEGIN:DAYLIGHT
TZOFFSETFROM:+0100
TZOFFSETTO:+0200
TZNAME:CEST
DTSTART:20180325T010000
END:DAYLIGHT
BEGIN:STANDARD
TZOFFSETFROM:+0200
TZOFFSETTO:+0100
TZNAME:CET
DTSTART:20181028T010000
END:STANDARD
BEGIN:DAYLIGHT
TZOFFSETFROM:+0100
TZOFFSETTO:+0200
TZNAME:CEST
DTSTART:20190331T010000
END:DAYLIGHT
BEGIN:STANDARD
TZOFFSETFROM:+0200
TZOFFSETTO:+0100
TZNAME:CET
DTSTART:20191027T010000
END:STANDARD
BEGIN:DAYLIGHT
TZOFFSETFROM:+0100
TZOFFSETTO:+0200
TZNAME:CEST
DTSTART:20200329T010000
END:DAYLIGHT
BEGIN:STANDARD
TZOFFSETFROM:+0200
TZOFFSETTO:+0100
TZNAME:CET
DTSTART:20201025T010000
END:STANDARD
END:VTIMEZONE
BEGIN:VEVENT
DTSTART;TZID=Europe/Berlin:20190413T093000
DTEND;TZID=Europe/Berlin:20190413T163000
DTSTAMP:20260419T231059
CREATED:20190107T134710Z
LAST-MODIFIED:20190107T134710Z
UID:10000249-1555147800-1555173000@www.peromed.at
SUMMARY:Grundlagen und Praxis der Stoßwellentherapie NEU! für PhysiotherapeutInnen
DESCRIPTION:Shockwave Education Austria\nGrundlagen und Praxis der radialen Stoßwellentherapie\nNEU! für PhysiotherapeutInnen\, Masseure\, SportphysiotherapeutInnen und Mediziner\nSamstag\, 13. April 2019 \nEine entsprechende Weiterbildung ist laut GÖG die Grundlage damit die Anwendung der radialer Stoßwellentherapie für PhysiotherapeutInnen zulässig ist. Bei dieser Fortbildung werden Ihnen die erforderlichen Grund- und Fachkenntnisse vermittelt. \nAm Vormittag finden interessante Vorträge und Fragerunden mit langjährigen Experten und Anwendern der Stoßwellentherapie statt. \nNach der Mittagspause heißt es dann „HANDS ON“ beim Stoßwellen-Workshop für alle Teilnehmer. Beim Praxisteil werden verschiedene Behandlungsabläufe simuliert und von den Teilnehmern praktisch angewendet. \nInhalte\n\nDiagnostische und therapeutische Grundlagen der Stoßwellentherapie\nAktuelle Entwicklungen und Ausblick\nBerichte aus der Praxis / Fallbeispiele\nUmfassende Möglichkeit für „Hands on“\nErfahrungsaustausch\n\nVortragende\n\nJoachim Dauer\, Physiotherapeut\, Aigen-Schlägl\nDr. Rainer Perner\, Facharzt für Unfallchirurgie\, Manualtherapeut\, Sportmediziner\, Stoßwellenzentrum Mondsee\n\nTeilnahmegebühr\n\n156€* (inkl. USt.)\n*bei einem Gerätekauf bei PEROmed innerhalb von 3 Monaten wird der Preis von max. 2 Personen pro Praxis gutgeschrieben.\n\nJetzt Anmelden – begrenzte Teilnehmeranzahl\n[dt_default_button link=“http://peromed.com/cms/anmeldeformular-april/“ button_alignment=“default“ animation=“fadeIn“ size=“big“ default_btn_bg_color=““ bg_hover_color=““ text_color=““ text_hover_color=““ icon=“fa fa-chevron-circle-right“ icon_align=“left“]Jetzt Online Anmeldeformular ausfüllen[/dt_default_button]\nVeranstaltungsort\nMariannengasse 14/TOP 1+2 \n1090 Wien \n \n  \n 
URL:https://www.peromed.at/event/stosswellenworkshop-physiotherapie-3/
LOCATION:Physiozentrum für Weiterbildung\, Mariannengasse 14/TOP 1+2\, Wien\, 1090
CATEGORIES:Seminare & Workshops
ATTACH;FMTTYPE=image/jpeg:https://www.peromed.at/graz/wp-content/uploads/2017/01/ESWT_Gesamtbroschuere_008-scaled.jpg
ORGANIZER;CN="PEROmed%C2%AE":MAILTO:office@peromed.at
END:VEVENT
END:VCALENDAR