BEGIN:VCALENDAR
VERSION:2.0
PRODID:-//PEROmed - ECPv6.15.20//NONSGML v1.0//EN
CALSCALE:GREGORIAN
METHOD:PUBLISH
X-ORIGINAL-URL:https://www.peromed.at
X-WR-CALDESC:Veranstaltungen für PEROmed
REFRESH-INTERVAL;VALUE=DURATION:PT1H
X-Robots-Tag:noindex
X-PUBLISHED-TTL:PT1H
BEGIN:VTIMEZONE
TZID:Europe/Berlin
BEGIN:DAYLIGHT
TZOFFSETFROM:+0100
TZOFFSETTO:+0200
TZNAME:CEST
DTSTART:20170326T010000
END:DAYLIGHT
BEGIN:STANDARD
TZOFFSETFROM:+0200
TZOFFSETTO:+0100
TZNAME:CET
DTSTART:20171029T010000
END:STANDARD
BEGIN:DAYLIGHT
TZOFFSETFROM:+0100
TZOFFSETTO:+0200
TZNAME:CEST
DTSTART:20180325T010000
END:DAYLIGHT
BEGIN:STANDARD
TZOFFSETFROM:+0200
TZOFFSETTO:+0100
TZNAME:CET
DTSTART:20181028T010000
END:STANDARD
BEGIN:DAYLIGHT
TZOFFSETFROM:+0100
TZOFFSETTO:+0200
TZNAME:CEST
DTSTART:20190331T010000
END:DAYLIGHT
BEGIN:STANDARD
TZOFFSETFROM:+0200
TZOFFSETTO:+0100
TZNAME:CET
DTSTART:20191027T010000
END:STANDARD
END:VTIMEZONE
BEGIN:VEVENT
DTSTART;VALUE=DATE:20180421
DTEND;VALUE=DATE:20180422
DTSTAMP:20260420T051828
CREATED:20180201T140127Z
LAST-MODIFIED:20180201T140127Z
UID:10000239-1524268800-1524355199@www.peromed.at
SUMMARY:Workshop - Stoßwellen Update
DESCRIPTION:Shockwave Education Austria: \nUpdates bei der Stoßwellentherapie!\nNeue Behandlungsoptionen für die tägliche Praxis.\nFür diese Veranstaltung erhalten Sie 9 medizinische DFP-Punkte. \nDieses Praxisseminar richtet sich sowohl an Neueinsteiger und Interessierte im Bereich der Stoßwellentherapie\, als auch an erfahrene Stoßwellen-Anwender\, welche ihr Fachwissen und ihre Anwender-Skills erweitern möchten. \nZielgruppe sind OrthopädInnen\, UnfallchirurgInnen\, Physikalische MedizinerInnen\, SportärztInnen und PhysiotherapeutInnen. \nInhalt des Workshops:\n\nUpdate Stoßwellentherapie\nAktuelle Entwicklungen und neue Indikationen für die tägl. Praxis\nBerichte aus der Praxis und Fallbeispiele\numfassende Möglichkeit für „Hands on“\nErfahrungsaustausch\n\nSeminarleitung:\n\nDr. med Stephan Swart\, Facharzt für Orthopädie\, Ärztlicher Osteopath\, Leitung der Fortbildungsakademie discentis /Rheinland\nDr. Michel Angelo Mrach\, Ärztlicher Leiter des Rehabilitationszentrum St. Georgen\, Facharzt für Orthopädie und orthopädische Chirurgie\n\n  \nTeilnahmegebühr: € 228.- (inkl. USt.) *\n* 20% Ermäßigung für PEROmed-Kunden (max. 2 Personen pro Praxis) \nBegrenzte Teilnehmeranzahl – Melden Sie sich noch heute an! \n\nHotelzimmer zu Workshopkonditionen um 112\,- Euro (inkl. Frühstück)!\nIm Rahmen des Workshops steht Ihnen ein Abrufkontingent unter dem Stichwort „Stoßwelle“ zur Verfügung. \nIhr Hotelzimmer können Sie direkt im Falkensteiner Hotel Wien Margareten buchen. \nKontaktaufnahme unter +43 1 361 63 – 931 oder meet.vienna@falkensteiner.com. \n  \nJetzt anmelden\nKlicken sie HIER um sich unkompliziert direkt online für das Seminar anzumelden! \nOder das Anmeldeformular als PDF downloaden und uns per Mail an office@peromed.at schicken: \nAnmeldeformular_download \nAnmeldeformular_Online ausfüllen \n 
URL:https://www.peromed.at/event/stosswellen-update-2/
LOCATION:Falkensteiner Hotel Wien Margareten\, Margaretengürtel 142\, Wien\, 1050
CATEGORIES:Seminare & Workshops
ATTACH;FMTTYPE=image/jpeg:https://www.peromed.at/graz/wp-content/uploads/2017/08/ESWT16_021_6080_57ee23b14ca-1.jpg
END:VEVENT
END:VCALENDAR