BEGIN:VCALENDAR
VERSION:2.0
PRODID:-//PEROmed - ECPv6.15.20//NONSGML v1.0//EN
CALSCALE:GREGORIAN
METHOD:PUBLISH
X-ORIGINAL-URL:https://www.peromed.at
X-WR-CALDESC:Veranstaltungen für PEROmed
REFRESH-INTERVAL;VALUE=DURATION:PT1H
X-Robots-Tag:noindex
X-PUBLISHED-TTL:PT1H
BEGIN:VTIMEZONE
TZID:Europe/Vienna
BEGIN:DAYLIGHT
TZOFFSETFROM:+0100
TZOFFSETTO:+0200
TZNAME:CEST
DTSTART:20220327T010000
END:DAYLIGHT
BEGIN:STANDARD
TZOFFSETFROM:+0200
TZOFFSETTO:+0100
TZNAME:CET
DTSTART:20221030T010000
END:STANDARD
BEGIN:DAYLIGHT
TZOFFSETFROM:+0100
TZOFFSETTO:+0200
TZNAME:CEST
DTSTART:20230326T010000
END:DAYLIGHT
BEGIN:STANDARD
TZOFFSETFROM:+0200
TZOFFSETTO:+0100
TZNAME:CET
DTSTART:20231029T010000
END:STANDARD
BEGIN:DAYLIGHT
TZOFFSETFROM:+0100
TZOFFSETTO:+0200
TZNAME:CEST
DTSTART:20240331T010000
END:DAYLIGHT
BEGIN:STANDARD
TZOFFSETFROM:+0200
TZOFFSETTO:+0100
TZNAME:CET
DTSTART:20241027T010000
END:STANDARD
END:VTIMEZONE
BEGIN:VTIMEZONE
TZID:Europe/Berlin
BEGIN:DAYLIGHT
TZOFFSETFROM:+0100
TZOFFSETTO:+0200
TZNAME:CEST
DTSTART:20160327T010000
END:DAYLIGHT
BEGIN:STANDARD
TZOFFSETFROM:+0200
TZOFFSETTO:+0100
TZNAME:CET
DTSTART:20161030T010000
END:STANDARD
BEGIN:DAYLIGHT
TZOFFSETFROM:+0100
TZOFFSETTO:+0200
TZNAME:CEST
DTSTART:20170326T010000
END:DAYLIGHT
BEGIN:STANDARD
TZOFFSETFROM:+0200
TZOFFSETTO:+0100
TZNAME:CET
DTSTART:20171029T010000
END:STANDARD
BEGIN:DAYLIGHT
TZOFFSETFROM:+0100
TZOFFSETTO:+0200
TZNAME:CEST
DTSTART:20180325T010000
END:DAYLIGHT
BEGIN:STANDARD
TZOFFSETFROM:+0200
TZOFFSETTO:+0100
TZNAME:CET
DTSTART:20181028T010000
END:STANDARD
BEGIN:DAYLIGHT
TZOFFSETFROM:+0100
TZOFFSETTO:+0200
TZNAME:CEST
DTSTART:20190331T010000
END:DAYLIGHT
BEGIN:STANDARD
TZOFFSETFROM:+0200
TZOFFSETTO:+0100
TZNAME:CET
DTSTART:20191027T010000
END:STANDARD
BEGIN:DAYLIGHT
TZOFFSETFROM:+0100
TZOFFSETTO:+0200
TZNAME:CEST
DTSTART:20200329T010000
END:DAYLIGHT
BEGIN:STANDARD
TZOFFSETFROM:+0200
TZOFFSETTO:+0100
TZNAME:CET
DTSTART:20201025T010000
END:STANDARD
BEGIN:DAYLIGHT
TZOFFSETFROM:+0100
TZOFFSETTO:+0200
TZNAME:CEST
DTSTART:20210328T010000
END:DAYLIGHT
BEGIN:STANDARD
TZOFFSETFROM:+0200
TZOFFSETTO:+0100
TZNAME:CET
DTSTART:20211031T010000
END:STANDARD
BEGIN:DAYLIGHT
TZOFFSETFROM:+0100
TZOFFSETTO:+0200
TZNAME:CEST
DTSTART:20220327T010000
END:DAYLIGHT
BEGIN:STANDARD
TZOFFSETFROM:+0200
TZOFFSETTO:+0100
TZNAME:CET
DTSTART:20221030T010000
END:STANDARD
END:VTIMEZONE
BEGIN:VEVENT
DTSTART;VALUE=DATE:20231202
DTEND;VALUE=DATE:20231203
DTSTAMP:20260419T220315
CREATED:20231016T153923Z
LAST-MODIFIED:20231218T153810Z
UID:10000309-1701475200-1701561599@www.peromed.at
SUMMARY:BVdO Jahrestagung 2023
DESCRIPTION:BVdO Jahrestagung (Berufsverband der Fachärzte für Orthopädie und Orthopädische Chirurgie)\nfindest am Samstag\, dem 2. Dezember 2023 statt.\nDas Hauptthema der diesjährigen BVdO-Jahrestagung ist „Alles rund ums Knie“\n– konservativ\n– regenerative Medizin\n– Endoprothetik\n– Osteoporose\nBei kostenlosem Eintritt besteht für Sie die Möglichkeit unsere Produkte vor Ort kennenzulernen.\nWir freuen uns über Ihren Besuch an unserem Informationsstand. \nUnser Produkt-Highlights bei der BVdO Jahrestagung:\n\nCryofos – Kälteschocktherapie „Thermoschocktherapie zur Schmerzbekämpfung“\nLaserneedle – Low-Level-Lasertherapie „schmerzlindernd ohne bekannte Nebenwirkungen“\nStorz Medical – Stoßwellentherapie „Die Stoßwelle ist in der Rehabilitationsmedizin nicht mehr wegzudenken“\n\n 
URL:https://www.peromed.at/event/bvdo-jahrestagung-2023/
LOCATION:Haus der Ingenieure\, 1. Stock\, Eschenbachgasse 9\, Wien\, 1010\, Österreich
CATEGORIES:Kongresse
ATTACH;FMTTYPE=image/jpeg:https://www.peromed.at/graz/wp-content/uploads/2023/10/BVdO-Jahrestagung_PEROmed.jpg
END:VEVENT
BEGIN:VEVENT
DTSTART;VALUE=DATE:20211120
DTEND;VALUE=DATE:20211121
DTSTAMP:20260419T220315
CREATED:20191015T114809Z
LAST-MODIFIED:20191015T114809Z
UID:10000262-1637366400-1637452799@www.peromed.at
SUMMARY:BVdO Jahrestagung 2021
DESCRIPTION:PEROmed ist für Sie mit Stoßwellengeräten bei der Jahrestagung des BVdO vertreten\n\n  \nWissenschaftliche Leitung:\nUniv.-Prof. Dr. Ronald Dorotka\nPräsident des Berufsverband der Österreichischen Fachärzte für Orthopädie (http://www.bvdo.or.at/)\nFacharzt für Orthopädie\, Orthopädische Chirurgie\, Sportorthopädie und Rheumatologie\, Orthopädie-Zentrum Innere Stadt\, Wien \n\nDatum\n\n20.11.2021\,\n08:00 bis 16:30 Uhr \n\n\n\nOrt\n\nHaus der Ingenieure\nEschenbachgasse 9 / 1. Stock\n1010 Wien\nÖsterreich \nHier geht’s zum Programm \n\n\n\nVeranstalter\n\nUniversimed Cross Media Content GmbH im Auftrag des Berufsverband der Österreichischen Fachärzte für Orthopädie\nMarkgraf Rüdiger Straße 6-8\n1150 Wien\nTel.: +43 1 87 67 956-16\nevent@universimed.com\nwww.universimed.com \n\n\n\n 
URL:https://www.peromed.at/event/die-jahrestagung-bvdo-2/
LOCATION:Haus der Ingenieure\, 1. Stock\, Eschenbachgasse 9\, Wien\, 1010\, Österreich
CATEGORIES:Kongresse
ATTACH;FMTTYPE=image/jpeg:https://www.peromed.at/graz/wp-content/uploads/2019/10/BVdO_PEROmed-1.jpg
END:VEVENT
BEGIN:VEVENT
DTSTART;VALUE=DATE:20181201
DTEND;VALUE=DATE:20181202
DTSTAMP:20260419T220315
CREATED:20180117T143630Z
LAST-MODIFIED:20180117T143630Z
UID:10000177-1543622400-1543708799@www.peromed.at
SUMMARY:Die Jahrestagung des BVdO
DESCRIPTION:Der Berufsverband der Fachärzte für Orthopädie und orthopädische Chirurgie veranstaltet am 01. Dezember 2018 die österreichische Jahrestagung.\n  \n 
URL:https://www.peromed.at/event/die-jahrestagung-des-bvdo-2/
LOCATION:Haus der Ingenieure\, 1. Stock\, Eschenbachgasse 9\, Wien\, 1010\, Österreich
CATEGORIES:Kongresse
END:VEVENT
BEGIN:VEVENT
DTSTART;VALUE=DATE:20181201
DTEND;VALUE=DATE:20181202
DTSTAMP:20260419T220315
CREATED:20180117T143630Z
LAST-MODIFIED:20180117T143630Z
UID:10000232-1543622400-1543708799@www.peromed.at
SUMMARY:Die Jahrestagung des BVdO
DESCRIPTION:Der Berufsverband der Fachärzte für Orthopädie und orthopädische Chirurgie veranstaltet am 01. Dezember 2018 die österreichische Jahrestagung.\n  \n 
URL:https://www.peromed.at/event/die-jahrestagung-des-bvdo-2-2/
LOCATION:Haus der Ingenieure\, 1. Stock\, Eschenbachgasse 9\, Wien\, 1010\, Österreich
CATEGORIES:Kongresse
END:VEVENT
BEGIN:VEVENT
DTSTART;VALUE=DATE:20180309
DTEND;VALUE=DATE:20180310
DTSTAMP:20260419T220315
CREATED:20180124T122036Z
LAST-MODIFIED:20180124T122036Z
UID:10000238-1520553600-1520639999@www.peromed.at
SUMMARY:4. Fachtag Prävention\, Rehabilitation & Physikalische Medizin
DESCRIPTION:Die Gesellschaft für Prävention\, Therapie und Rehabilitation in der Physikalischen Medizin (GPTRPM) veranstaltet am 09. März den 4. Fachtag mit interessanten Vorträgen und Praxisworkshops.\nDas ganze Programm finden Sie HIER. \n  \n 
URL:https://www.peromed.at/event/fachtag-praevention-rehabilitation-physikalische-medizin-2/
LOCATION:Haus der Ingenieure\, 1. Stock\, Eschenbachgasse 9\, Wien\, 1010\, Österreich
CATEGORIES:Kongresse
ATTACH;FMTTYPE=image/jpeg:https://www.peromed.at/graz/wp-content/uploads/2018/01/fachtag-praevention.jpg
END:VEVENT
BEGIN:VEVENT
DTSTART;VALUE=DATE:20171202
DTEND;VALUE=DATE:20171203
DTSTAMP:20260419T220315
CREATED:20171012T112631Z
LAST-MODIFIED:20171012T112631Z
UID:10000228-1512172800-1512259199@www.peromed.at
SUMMARY:Die Jahrestagung des BVdO
DESCRIPTION:Der Berufsverband der Fachärzte für Orthopädie und orthopädische Chirurgie veranstaltet am 02. Dezember 2017 die österreichische Jahrestagung.\n  \n 
URL:https://www.peromed.at/event/die-jahrestagung-des-bvdo-3/
LOCATION:Haus der Ingenieure\, 1. Stock\, Eschenbachgasse 9\, Wien\, 1010\, Österreich
CATEGORIES:Kongresse
END:VEVENT
END:VCALENDAR