BEGIN:VCALENDAR
VERSION:2.0
PRODID:-//PEROmed - ECPv6.15.20//NONSGML v1.0//EN
CALSCALE:GREGORIAN
METHOD:PUBLISH
X-ORIGINAL-URL:https://www.peromed.at
X-WR-CALDESC:Veranstaltungen für PEROmed
REFRESH-INTERVAL;VALUE=DURATION:PT1H
X-Robots-Tag:noindex
X-PUBLISHED-TTL:PT1H
BEGIN:VTIMEZONE
TZID:Europe/Vienna
BEGIN:DAYLIGHT
TZOFFSETFROM:+0100
TZOFFSETTO:+0200
TZNAME:CEST
DTSTART:20220327T010000
END:DAYLIGHT
BEGIN:STANDARD
TZOFFSETFROM:+0200
TZOFFSETTO:+0100
TZNAME:CET
DTSTART:20221030T010000
END:STANDARD
BEGIN:DAYLIGHT
TZOFFSETFROM:+0100
TZOFFSETTO:+0200
TZNAME:CEST
DTSTART:20230326T010000
END:DAYLIGHT
BEGIN:STANDARD
TZOFFSETFROM:+0200
TZOFFSETTO:+0100
TZNAME:CET
DTSTART:20231029T010000
END:STANDARD
BEGIN:DAYLIGHT
TZOFFSETFROM:+0100
TZOFFSETTO:+0200
TZNAME:CEST
DTSTART:20240331T010000
END:DAYLIGHT
BEGIN:STANDARD
TZOFFSETFROM:+0200
TZOFFSETTO:+0100
TZNAME:CET
DTSTART:20241027T010000
END:STANDARD
END:VTIMEZONE
BEGIN:VEVENT
DTSTART;VALUE=DATE:20231111
DTEND;VALUE=DATE:20231112
DTSTAMP:20260420T050657
CREATED:20231016T135210Z
LAST-MODIFIED:20231016T150920Z
UID:10000306-1699660800-1699747199@www.peromed.at
SUMMARY:Bugam - Seminar der Burgenländischen Gesellschaft für Allgemeinmedizin
DESCRIPTION:BUGAM – Seminar der Burgenländischen Gesellschaft für Allgemeinmedizin\nzum Thema „Der orthopädische Patient in der Arztpraxis“ unter der wissenschaftlichen Leitung von Dr. Michael HEINRICH jr. und DR. Fritz KLEMENT. \nDie Veranstaltung findet am Samstag\, dem 11. November 2023 im Kultursaal des Vinatriums in Deutschkreutz statt. \nSchwerpunktthemen sind: Knie\, Sporttraumatologie\, Endoprothetik Knie und Hüfte\, Hüftarthroskopie\, Knochenbruch im Alter\, Wirbelsäule\, Differentialdiagnose LWS oder Hüfte?\, Schulter\, Hand/Handgelenk\, Ellbogen und Schmerztherapie. \n  \nAls Sponsor präsentieren wir vor Ort die folgenden Produkt-Highlights :\n\nCryofos – Kälteschocktherapie „Thermoschocktherapie zur Schmerzbekämpfung“\nLaserneedle – Low-Level-Lasertherapie „schmerzlindernd ohne bekannte Nebenwirkungen“\nStorz Medical – Stoßwellentherapie „Die Stoßwelle ist in der Rehabilitationsmedizin nicht mehr wegzudenken“\n\n  \nWir freuen uns auf den persönlichen Kontakt mit Ihnen!
URL:https://www.peromed.at/event/seminar-der-burgenlaendischen-gesellschaft-fuer-allgemeinmedizin/
LOCATION:Deutschkreutz
CATEGORIES:Kongresse
ATTACH;FMTTYPE=image/jpeg:https://www.peromed.at/graz/wp-content/uploads/2019/08/IMG_1128_1-1.jpg
ORGANIZER;CN="Burgenl%C3%A4ndische Gesellschaft f%C3%BCr Allgemein- und Familienmedizin":MAILTO:office@bugam.at
END:VEVENT
END:VCALENDAR