BEGIN:VCALENDAR
VERSION:2.0
PRODID:-//PEROmed - ECPv6.15.20//NONSGML v1.0//EN
CALSCALE:GREGORIAN
METHOD:PUBLISH
X-ORIGINAL-URL:https://www.peromed.at
X-WR-CALDESC:Veranstaltungen für PEROmed
REFRESH-INTERVAL;VALUE=DURATION:PT1H
X-Robots-Tag:noindex
X-PUBLISHED-TTL:PT1H
BEGIN:VTIMEZONE
TZID:Europe/Berlin
BEGIN:DAYLIGHT
TZOFFSETFROM:+0100
TZOFFSETTO:+0200
TZNAME:CEST
DTSTART:20200329T010000
END:DAYLIGHT
BEGIN:STANDARD
TZOFFSETFROM:+0200
TZOFFSETTO:+0100
TZNAME:CET
DTSTART:20201025T010000
END:STANDARD
BEGIN:DAYLIGHT
TZOFFSETFROM:+0100
TZOFFSETTO:+0200
TZNAME:CEST
DTSTART:20210328T010000
END:DAYLIGHT
BEGIN:STANDARD
TZOFFSETFROM:+0200
TZOFFSETTO:+0100
TZNAME:CET
DTSTART:20211031T010000
END:STANDARD
BEGIN:DAYLIGHT
TZOFFSETFROM:+0100
TZOFFSETTO:+0200
TZNAME:CEST
DTSTART:20220327T010000
END:DAYLIGHT
BEGIN:STANDARD
TZOFFSETFROM:+0200
TZOFFSETTO:+0100
TZNAME:CET
DTSTART:20221030T010000
END:STANDARD
END:VTIMEZONE
BEGIN:VEVENT
DTSTART;TZID=Europe/Berlin:20211104T235900
DTEND;TZID=Europe/Berlin:20211105T235900
DTSTAMP:20260420T030951
CREATED:20191219T145154Z
LAST-MODIFIED:20191219T145154Z
UID:10000265-1636070340-1636156740@www.peromed.at
SUMMARY:Weltkongress der International Society of Medical Shockwave Treatment (ISMST)
DESCRIPTION:PEROmed ist für Sie vor Ort.\nNeuer ISMST-Kongress Termin im November 2021!\nIn Wien findet  dieses Jahr der Weltkongress der internationalen Stoßwellenorganisation ISMST (International Society of Medical Shockwave Treatment) statt.\nBei Interesse besuchen Sie bitte direkt die Website des ISMST: www.shockwavetherapy.org \n  \nDas PEROmed Team steht Ihnen vor Ort für alle Fragen zu den innovativen Stoßwellengeräten des Schweizer Herstellers Storz Medical zur Verfügung. \nWir freuen uns auf ein persönliches Gespräch. \n  \n 
URL:https://www.peromed.at/event/world-congress-ismst-vienna-2/
LOCATION:Vienna\, Österreich
CATEGORIES:Kongresse
ATTACH;FMTTYPE=image/png:https://www.peromed.at/graz/wp-content/uploads/2019/12/ISMST-1.png
END:VEVENT
END:VCALENDAR